BEGIN:VCALENDAR
VERSION:2.0
PRODID:-//PYVOBJECT//NONSGML Version 0.9.9//EN
X-WR-TIMEZONE:Africa/Johannesburg
BEGIN:VTIMEZONE
TZID:Africa/Johannesburg
BEGIN:STANDARD
DTSTART:20000101T000000
RRULE:FREQ=YEARLY;BYMONTH=1
TZNAME:SAST
TZOFFSETFROM:+0200
TZOFFSETTO:+0200
END:STANDARD
END:VTIMEZONE
BEGIN:VEVENT
UID:20260425T030939Z - 66352@eos-content
DTSTART;TZID=Africa/Johannesburg:20260425T100000
DTEND;TZID=Africa/Johannesburg:20260425T120000
ATTENDEE:MAILTO:kari.greene@seeff.com
DESCRIPTION:https://nottinghamroad.seeff.com/results/residential/to-let/not
 tingham-road/gowrie-village/apartment/3073804/\n\nSeeff Nottingham Road Of
 fice in Gowrie Village - View by disappointment 033 266 6456\n\nKari Green
 e (082 824 7278)
DTSTAMP:20260425T030939Z
LOCATION:Gowrie Village\, Nottingham Road
SUMMARY:Seeff Property Group Show Day - RLS997958
END:VEVENT
END:VCALENDAR
